BEGIN:VCALENDAR
VERSION:2.0
PRODID:-//Holy Rosary Parish - ECPv6.3.1//NONSGML v1.0//EN
CALSCALE:GREGORIAN
METHOD:PUBLISH
X-ORIGINAL-URL:https://holyrosaryguelph.ca
X-WR-CALDESC:Events for Holy Rosary Parish
REFRESH-INTERVAL;VALUE=DURATION:PT1H
X-Robots-Tag:noindex
X-PUBLISHED-TTL:PT1H
BEGIN:VTIMEZONE
TZID:America/Toronto
BEGIN:DAYLIGHT
TZOFFSETFROM:-0500
TZOFFSETTO:-0400
TZNAME:EDT
DTSTART:20200308T070000
END:DAYLIGHT
BEGIN:STANDARD
TZOFFSETFROM:-0400
TZOFFSETTO:-0500
TZNAME:EST
DTSTART:20201101T060000
END:STANDARD
END:VTIMEZONE
BEGIN:VEVENT
DTSTART;VALUE=DATE:20201225
DTEND;VALUE=DATE:20201226
DTSTAMP:20260419T135907
CREATED:20201205T161321Z
LAST-MODIFIED:20201205T161321Z
UID:2641-1608854400-1608940799@holyrosaryguelph.ca
SUMMARY:Masses - Christmas Day
DESCRIPTION:Mass times on Christmas Day are 7:00\, 9:00\, and 11:00 am. \nTickets are required to gain admittance to any of these masses. Tickets can be obtained at the parish office weekdays 8:30 am to 4:30 pm\, closed 12:00 pm to 1:00 pm. Tickets MUST be shown upon arrival at any of these masses. \nPlease review these Mass Safety Procedures.
URL:https://holyrosaryguelph.ca/single-event/masses-christmas-day/
LOCATION:Holy Rosary Parish\, 175 Emma St.\, Guelph\, ON\, Canada
CATEGORIES:Christmas,Mass
ATTACH;FMTTYPE=image/jpeg:https://holyrosaryguelph.ca/wp-content/uploads/2017/12/ChristmasNativity.jpg
END:VEVENT
BEGIN:VEVENT
DTSTART;VALUE=DATE:20201224
DTEND;VALUE=DATE:20201225
DTSTAMP:20260419T135907
CREATED:20201205T160916Z
LAST-MODIFIED:20201205T160916Z
UID:2638-1608768000-1608854399@holyrosaryguelph.ca
SUMMARY:Masses - Christmas Eve
DESCRIPTION:Mass times on Christmas Eve are 4:00\, 6:00\, 8:00 and 10:00 pm plus the traditional 12:00 am Christmas Eve midnight mass. \nTickets are required to gain admittance to any of these masses. Tickets can be obtained at the parish office weekdays 8:30 am to 4:30 pm\, closed 12:00 pm to 1:00 pm. Tickets MUST be shown upon arrival at any of these masses. \nPlease review these Mass Safety Procedures.
URL:https://holyrosaryguelph.ca/single-event/masses-christmas-eve/
LOCATION:Holy Rosary Parish\, 175 Emma St.\, Guelph\, ON\, Canada
CATEGORIES:Christmas,Mass
ATTACH;FMTTYPE=image/jpeg:https://holyrosaryguelph.ca/wp-content/uploads/2017/12/ChristmasNativity.jpg
END:VEVENT
END:VCALENDAR