BEGIN:VCALENDAR
VERSION:2.0
PRODID:-//Holy Rosary Parish - ECPv6.3.1//NONSGML v1.0//EN
CALSCALE:GREGORIAN
METHOD:PUBLISH
X-WR-CALNAME:Holy Rosary Parish
X-ORIGINAL-URL:https://holyrosaryguelph.ca
X-WR-CALDESC:Events for Holy Rosary Parish
REFRESH-INTERVAL;VALUE=DURATION:PT1H
X-Robots-Tag:noindex
X-PUBLISHED-TTL:PT1H
BEGIN:VTIMEZONE
TZID:America/Toronto
BEGIN:DAYLIGHT
TZOFFSETFROM:-0500
TZOFFSETTO:-0400
TZNAME:EDT
DTSTART:20190310T070000
END:DAYLIGHT
BEGIN:STANDARD
TZOFFSETFROM:-0400
TZOFFSETTO:-0500
TZNAME:EST
DTSTART:20191103T060000
END:STANDARD
END:VTIMEZONE
BEGIN:VEVENT
DTSTART;TZID=America/Toronto:20191126T180000
DTEND;TZID=America/Toronto:20191126T190000
DTSTAMP:20260423T234232
CREATED:20191121T021554Z
LAST-MODIFIED:20191121T021554Z
UID:1994-1574791200-1574794800@holyrosaryguelph.ca
SUMMARY:Evangelization Potluck Dinner
DESCRIPTION:Join us for a potluck dinner to discuss evangelization in our parish.  All are welcome.
URL:https://holyrosaryguelph.ca/single-event/evangelization-potluck-dinner/
LOCATION:Holy Rosary Parish\, 175 Emma St.\, Guelph\, ON\, Canada
CATEGORIES:Evangelization
END:VEVENT
END:VCALENDAR