BEGIN:VCALENDAR
VERSION:2.0
PRODID:-//Holy Rosary Parish - ECPv6.3.1//NONSGML v1.0//EN
CALSCALE:GREGORIAN
METHOD:PUBLISH
X-WR-CALNAME:Holy Rosary Parish
X-ORIGINAL-URL:https://holyrosaryguelph.ca
X-WR-CALDESC:Events for Holy Rosary Parish
REFRESH-INTERVAL;VALUE=DURATION:PT1H
X-Robots-Tag:noindex
X-PUBLISHED-TTL:PT1H
BEGIN:VTIMEZONE
TZID:America/Toronto
BEGIN:DAYLIGHT
TZOFFSETFROM:-0500
TZOFFSETTO:-0400
TZNAME:EDT
DTSTART:20220313T070000
END:DAYLIGHT
BEGIN:STANDARD
TZOFFSETFROM:-0400
TZOFFSETTO:-0500
TZNAME:EST
DTSTART:20221106T060000
END:STANDARD
END:VTIMEZONE
BEGIN:VEVENT
DTSTART;TZID=America/Toronto:20220411T140000
DTEND;TZID=America/Toronto:20220411T150000
DTSTAMP:20260422T235727
CREATED:20220401T204032Z
LAST-MODIFIED:20220401T204032Z
UID:3320-1649685600-1649689200@holyrosaryguelph.ca
SUMMARY:Mass of Chrism
DESCRIPTION:The Mass of Chrism will be celebrated at the Cathedral Basilica of Christ the King in Hamilton on Monday April 11\, 2022 at 2pm.
URL:https://holyrosaryguelph.ca/single-event/mass-of-chrism-4/
LOCATION:Cathedral Basilica of Christ the King\, 714 King Street West\, Hamilton\, Ontario\, L8P 1C7\, Canada
CATEGORIES:Mass
END:VEVENT
END:VCALENDAR