BEGIN:VCALENDAR
VERSION:2.0
PRODID:-//Holy Rosary Parish - ECPv6.3.1//NONSGML v1.0//EN
CALSCALE:GREGORIAN
METHOD:PUBLISH
X-WR-CALNAME:Holy Rosary Parish
X-ORIGINAL-URL:https://holyrosaryguelph.ca
X-WR-CALDESC:Events for Holy Rosary Parish
REFRESH-INTERVAL;VALUE=DURATION:PT1H
X-Robots-Tag:noindex
X-PUBLISHED-TTL:PT1H
BEGIN:VTIMEZONE
TZID:America/Toronto
BEGIN:DAYLIGHT
TZOFFSETFROM:-0500
TZOFFSETTO:-0400
TZNAME:EDT
DTSTART:20230312T070000
END:DAYLIGHT
BEGIN:STANDARD
TZOFFSETFROM:-0400
TZOFFSETTO:-0500
TZNAME:EST
DTSTART:20231105T060000
END:STANDARD
END:VTIMEZONE
BEGIN:VEVENT
DTSTART;TZID=America/Toronto:20230403T140000
DTEND;TZID=America/Toronto:20230403T150000
DTSTAMP:20260422T065743
CREATED:20230318T115235Z
LAST-MODIFIED:20230318T124021Z
UID:3764-1680530400-1680534000@holyrosaryguelph.ca
SUMMARY:Chrism Mass
DESCRIPTION:The Chrism Mass will be held at the Hamilton Cathedral.
URL:https://holyrosaryguelph.ca/single-event/chrism-mass/
LOCATION:Cathedral Basilica of Christ the King\, 714 King Street West\, Hamilton\, Ontario\, L8P 1C7\, Canada
CATEGORIES:Mass
ATTACH;FMTTYPE=image/jpeg:https://holyrosaryguelph.ca/wp-content/uploads/2023/03/Mass-of-Chrism.jpg
END:VEVENT
END:VCALENDAR