BEGIN:VCALENDAR
VERSION:2.0
PRODID:-//Holy Rosary Parish - ECPv6.3.1//NONSGML v1.0//EN
CALSCALE:GREGORIAN
METHOD:PUBLISH
X-ORIGINAL-URL:https://holyrosaryguelph.ca
X-WR-CALDESC:Events for Holy Rosary Parish
REFRESH-INTERVAL;VALUE=DURATION:PT1H
X-Robots-Tag:noindex
X-PUBLISHED-TTL:PT1H
BEGIN:VTIMEZONE
TZID:America/Toronto
BEGIN:DAYLIGHT
TZOFFSETFROM:-0500
TZOFFSETTO:-0400
TZNAME:EDT
DTSTART:20230312T070000
END:DAYLIGHT
BEGIN:STANDARD
TZOFFSETFROM:-0400
TZOFFSETTO:-0500
TZNAME:EST
DTSTART:20231105T060000
END:STANDARD
END:VTIMEZONE
BEGIN:VEVENT
DTSTART;VALUE=DATE:20231224
DTEND;VALUE=DATE:20231225
DTSTAMP:20260421T082215
CREATED:20231203T161806Z
LAST-MODIFIED:20231203T163410Z
UID:4021-1703376000-1703462399@holyrosaryguelph.ca
SUMMARY:Christmas Eve Masses
DESCRIPTION:  \nChristmas Masses are offered on December 24’th at 5pm\, 7pm\, and 10pm. \n\nPlease respect the ongoing safety protocols.
URL:https://holyrosaryguelph.ca/single-event/christmas-masses/
LOCATION:Holy Rosary Parish\, 175 Emma St.\, Guelph\, ON\, Canada
CATEGORIES:Christmas,Mass
ATTACH;FMTTYPE=image/jpeg:https://holyrosaryguelph.ca/wp-content/uploads/2022/12/Creche-2-scaled.jpg
END:VEVENT
BEGIN:VEVENT
DTSTART;VALUE=DATE:20231225
DTEND;VALUE=DATE:20231226
DTSTAMP:20260421T082215
CREATED:20231203T161945Z
LAST-MODIFIED:20231203T163356Z
UID:4023-1703462400-1703548799@holyrosaryguelph.ca
SUMMARY:Christmas Day Mass
DESCRIPTION:Christmas Mass is offered on December 25’th at 10:30am. \n\nPlease respect the ongoing safety protocols.
URL:https://holyrosaryguelph.ca/single-event/christmas-mass/
LOCATION:Holy Rosary Parish\, 175 Emma St.\, Guelph\, ON\, Canada
CATEGORIES:Christmas,Mass
ATTACH;FMTTYPE=image/jpeg:https://holyrosaryguelph.ca/wp-content/uploads/2022/12/Creche-1-scaled.jpg
END:VEVENT
END:VCALENDAR