BEGIN:VCALENDAR
VERSION:2.0
PRODID:-//Holy Rosary Parish - ECPv6.3.1//NONSGML v1.0//EN
CALSCALE:GREGORIAN
METHOD:PUBLISH
X-ORIGINAL-URL:https://holyrosaryguelph.ca
X-WR-CALDESC:Events for Holy Rosary Parish
REFRESH-INTERVAL;VALUE=DURATION:PT1H
X-Robots-Tag:noindex
X-PUBLISHED-TTL:PT1H
BEGIN:VTIMEZONE
TZID:America/Toronto
BEGIN:DAYLIGHT
TZOFFSETFROM:-0500
TZOFFSETTO:-0400
TZNAME:EDT
DTSTART:20240310T070000
END:DAYLIGHT
BEGIN:STANDARD
TZOFFSETFROM:-0400
TZOFFSETTO:-0500
TZNAME:EST
DTSTART:20241103T060000
END:STANDARD
END:VTIMEZONE
BEGIN:VEVENT
DTSTART;TZID=America/Toronto:20241224T170000
DTEND;TZID=America/Toronto:20241224T233000
DTSTAMP:20260420T143810
CREATED:20241212T131827Z
LAST-MODIFIED:20241212T131827Z
UID:4421-1735059600-1735083000@holyrosaryguelph.ca
SUMMARY:Christmas Eve Masses
DESCRIPTION:Masses will be offered on Christmas Eve at 5pm\, 7pm and 10pm. \n\n\n\nPlease respect the ongoing safety protocols.
URL:https://holyrosaryguelph.ca/single-event/christmas-eve-masses-3/
LOCATION:Holy Rosary Parish\, 175 Emma St.\, Guelph\, ON\, Canada
CATEGORIES:Christmas
ATTACH;FMTTYPE=image/jpeg:https://holyrosaryguelph.ca/wp-content/uploads/2022/12/Creche-1-scaled.jpg
END:VEVENT
BEGIN:VEVENT
DTSTART;TZID=America/Toronto:20241225T100000
DTEND;TZID=America/Toronto:20241225T113000
DTSTAMP:20260420T143810
CREATED:20241212T132028Z
LAST-MODIFIED:20241212T132029Z
UID:4423-1735120800-1735126200@holyrosaryguelph.ca
SUMMARY:Christmas Day Mass
DESCRIPTION:Christmas Day mass will be offered at 10am. \n\n\n\nPlease respect the ongoing safety protocols.
URL:https://holyrosaryguelph.ca/single-event/christmas-day-mass-5/
LOCATION:Holy Rosary Parish\, 175 Emma St.\, Guelph\, ON\, Canada
CATEGORIES:Christmas,Mass
ATTACH;FMTTYPE=image/jpeg:https://holyrosaryguelph.ca/wp-content/uploads/2022/12/Creche-1-scaled.jpg
END:VEVENT
END:VCALENDAR