BEGIN:VCALENDAR
VERSION:2.0
PRODID:-//Holy Rosary Parish - ECPv6.3.1//NONSGML v1.0//EN
CALSCALE:GREGORIAN
METHOD:PUBLISH
X-ORIGINAL-URL:https://holyrosaryguelph.ca
X-WR-CALDESC:Events for Holy Rosary Parish
REFRESH-INTERVAL;VALUE=DURATION:PT1H
X-Robots-Tag:noindex
X-PUBLISHED-TTL:PT1H
BEGIN:VTIMEZONE
TZID:America/Toronto
BEGIN:DAYLIGHT
TZOFFSETFROM:-0500
TZOFFSETTO:-0400
TZNAME:EDT
DTSTART:20240310T070000
END:DAYLIGHT
BEGIN:STANDARD
TZOFFSETFROM:-0400
TZOFFSETTO:-0500
TZNAME:EST
DTSTART:20241103T060000
END:STANDARD
END:VTIMEZONE
BEGIN:VEVENT
DTSTART;TZID=America/Toronto:20240328T000000
DTEND;TZID=America/Toronto:20240328T235959
DTSTAMP:20260423T133142
CREATED:20240220T172016Z
LAST-MODIFIED:20240220T173949Z
UID:4127-1711584000-1711670399@holyrosaryguelph.ca
SUMMARY:Holy Thursday
DESCRIPTION:
URL:https://holyrosaryguelph.ca/single-event/holy-thursday-4/
LOCATION:Holy Rosary Parish\, 175 Emma St.\, Guelph\, ON\, Canada
ATTACH;FMTTYPE=image/jpeg:https://holyrosaryguelph.ca/wp-content/uploads/2021/03/blessed-sacrament.jpg
END:VEVENT
END:VCALENDAR